BEGIN:VCALENDAR
VERSION:2.0
PRODID:-//I.E. Cook - ECPv6.15.20//NONSGML v1.0//EN
CALSCALE:GREGORIAN
METHOD:PUBLISH
X-ORIGINAL-URL:https://ie-cook.com
X-WR-CALDESC:Events for I.E. Cook
REFRESH-INTERVAL;VALUE=DURATION:PT1H
X-Robots-Tag:noindex
X-PUBLISHED-TTL:PT1H
BEGIN:VTIMEZONE
TZID:America/New_York
BEGIN:DAYLIGHT
TZOFFSETFROM:-0500
TZOFFSETTO:-0400
TZNAME:EDT
DTSTART:20180311T070000
END:DAYLIGHT
BEGIN:STANDARD
TZOFFSETFROM:-0400
TZOFFSETTO:-0500
TZNAME:EST
DTSTART:20181104T060000
END:STANDARD
BEGIN:DAYLIGHT
TZOFFSETFROM:-0500
TZOFFSETTO:-0400
TZNAME:EDT
DTSTART:20190310T070000
END:DAYLIGHT
BEGIN:STANDARD
TZOFFSETFROM:-0400
TZOFFSETTO:-0500
TZNAME:EST
DTSTART:20191103T060000
END:STANDARD
BEGIN:DAYLIGHT
TZOFFSETFROM:-0500
TZOFFSETTO:-0400
TZNAME:EDT
DTSTART:20200308T070000
END:DAYLIGHT
BEGIN:STANDARD
TZOFFSETFROM:-0400
TZOFFSETTO:-0500
TZNAME:EST
DTSTART:20201101T060000
END:STANDARD
END:VTIMEZONE
BEGIN:VEVENT
DTSTART;TZID=America/New_York:20191005T200000
DTEND;TZID=America/New_York:20191005T220000
DTSTAMP:20260419T113454
CREATED:20190929T031856Z
LAST-MODIFIED:20190929T040534Z
UID:69-1570305600-1570312800@ie-cook.com
SUMMARY:Lets get saucy! Cooking Class
DESCRIPTION:
URL:https://ie-cook.com/event/lets-get-saucy-cooking-class/
LOCATION:Lets get saucy\, 11115 Iota Drive\, San Antonio\, TX\, 78217\, United States
ORGANIZER;CN="Rosie Casillas":MAILTO:r.casillas@msn.com
END:VEVENT
END:VCALENDAR